BEGIN:VCALENDAR
VERSION:2.0
PRODID:-//Illawarra Plastic Modellers Association - ECPv6.15.20//NONSGML v1.0//EN
CALSCALE:GREGORIAN
METHOD:PUBLISH
X-WR-CALNAME:Illawarra Plastic Modellers Association
X-ORIGINAL-URL:https://ipmamodels.net
X-WR-CALDESC:Events for Illawarra Plastic Modellers Association
REFRESH-INTERVAL;VALUE=DURATION:PT1H
X-Robots-Tag:noindex
X-PUBLISHED-TTL:PT1H
BEGIN:VTIMEZONE
TZID:Australia/Sydney
BEGIN:STANDARD
TZOFFSETFROM:+1100
TZOFFSETTO:+1000
TZNAME:AEST
DTSTART:20250405T160000
END:STANDARD
BEGIN:DAYLIGHT
TZOFFSETFROM:+1000
TZOFFSETTO:+1100
TZNAME:AEDT
DTSTART:20251004T160000
END:DAYLIGHT
BEGIN:STANDARD
TZOFFSETFROM:+1100
TZOFFSETTO:+1000
TZNAME:AEST
DTSTART:20260404T160000
END:STANDARD
BEGIN:DAYLIGHT
TZOFFSETFROM:+1000
TZOFFSETTO:+1100
TZNAME:AEDT
DTSTART:20261003T160000
END:DAYLIGHT
BEGIN:STANDARD
TZOFFSETFROM:+1100
TZOFFSETTO:+1000
TZNAME:AEST
DTSTART:20270403T160000
END:STANDARD
BEGIN:DAYLIGHT
TZOFFSETFROM:+1000
TZOFFSETTO:+1100
TZNAME:AEDT
DTSTART:20271002T160000
END:DAYLIGHT
BEGIN:STANDARD
TZOFFSETFROM:+1100
TZOFFSETTO:+1000
TZNAME:AEST
DTSTART:20280401T160000
END:STANDARD
BEGIN:DAYLIGHT
TZOFFSETFROM:+1000
TZOFFSETTO:+1100
TZNAME:AEDT
DTSTART:20280930T160000
END:DAYLIGHT
END:VTIMEZONE
BEGIN:VEVENT
DTSTART;TZID=Australia/Sydney:20260502T123000
DTEND;TZID=Australia/Sydney:20260502T153000
DTSTAMP:20260418T065843
CREATED:20241225T210248Z
LAST-MODIFIED:20241225T210248Z
UID:2414-1777725000-1777735800@ipmamodels.net
SUMMARY:Monthly Meeting
DESCRIPTION:Join us for our monthly meeting at the Dapto Ribbonwood Centre.
URL:https://ipmamodels.net/event/monthly-meeting-54/
LOCATION:NSW
CATEGORIES:Meetings
END:VEVENT
BEGIN:VEVENT
DTSTART;TZID=Australia/Sydney:20260523T090000
DTEND;TZID=Australia/Sydney:20260524T160000
DTSTAMP:20260418T065843
CREATED:20250614T052944Z
LAST-MODIFIED:20250614T052946Z
UID:2499-1779526800-1779638400@ipmamodels.net
SUMMARY:2026 NSW Scale Model Show
DESCRIPTION:
URL:https://ipmamodels.net/event/2026-nsw-scale-model-show/
LOCATION:Illawarra Sports Stadium\, Fred Finch Park\, Hooka Creek Rd\, Berkeley\, NSW\, 2506\, Australia
END:VEVENT
BEGIN:VEVENT
DTSTART;TZID=Australia/Sydney:20260606T123000
DTEND;TZID=Australia/Sydney:20260606T153000
DTSTAMP:20260418T065843
CREATED:20241225T205757Z
LAST-MODIFIED:20241225T210248Z
UID:2314-1780749000-1780759800@ipmamodels.net
SUMMARY:Monthly Meeting
DESCRIPTION:Join us for our monthly meeting at the Dapto Ribbonwood Centre.
URL:https://ipmamodels.net/event/monthly-meeting-19/
LOCATION:NSW
CATEGORIES:Meetings
END:VEVENT
BEGIN:VEVENT
DTSTART;TZID=Australia/Sydney:20260704T123000
DTEND;TZID=Australia/Sydney:20260704T153000
DTSTAMP:20260418T065843
CREATED:20241225T210248Z
LAST-MODIFIED:20241225T210248Z
UID:2415-1783168200-1783179000@ipmamodels.net
SUMMARY:Monthly Meeting
DESCRIPTION:Join us for our monthly meeting at the Dapto Ribbonwood Centre.
URL:https://ipmamodels.net/event/monthly-meeting-55/
LOCATION:NSW
CATEGORIES:Meetings
END:VEVENT
BEGIN:VEVENT
DTSTART;TZID=Australia/Sydney:20260801T123000
DTEND;TZID=Australia/Sydney:20260801T153000
DTSTAMP:20260418T065843
CREATED:20241225T210257Z
LAST-MODIFIED:20241225T210257Z
UID:2416-1785587400-1785598200@ipmamodels.net
SUMMARY:Monthly Meeting
DESCRIPTION:Join us for our monthly meeting at the Dapto Ribbonwood Centre.
URL:https://ipmamodels.net/event/monthly-meeting-56/
LOCATION:NSW
CATEGORIES:Meetings
END:VEVENT
BEGIN:VEVENT
DTSTART;TZID=Australia/Sydney:20260905T123000
DTEND;TZID=Australia/Sydney:20260905T153000
DTSTAMP:20260418T065843
CREATED:20241225T210257Z
LAST-MODIFIED:20241225T210257Z
UID:2417-1788611400-1788622200@ipmamodels.net
SUMMARY:Monthly Meeting
DESCRIPTION:Join us for our monthly meeting at the Dapto Ribbonwood Centre.
URL:https://ipmamodels.net/event/monthly-meeting-57/
LOCATION:NSW
CATEGORIES:Meetings
END:VEVENT
BEGIN:VEVENT
DTSTART;TZID=Australia/Sydney:20261003T123000
DTEND;TZID=Australia/Sydney:20261003T153000
DTSTAMP:20260418T065843
CREATED:20241225T210257Z
LAST-MODIFIED:20241225T210257Z
UID:2418-1791030600-1791041400@ipmamodels.net
SUMMARY:Monthly Meeting
DESCRIPTION:Join us for our monthly meeting at the Dapto Ribbonwood Centre.
URL:https://ipmamodels.net/event/monthly-meeting-58/
LOCATION:NSW
CATEGORIES:Meetings
END:VEVENT
BEGIN:VEVENT
DTSTART;TZID=Australia/Sydney:20261107T123000
DTEND;TZID=Australia/Sydney:20261107T153000
DTSTAMP:20260418T065843
CREATED:20241225T210257Z
LAST-MODIFIED:20241225T210257Z
UID:2419-1794054600-1794065400@ipmamodels.net
SUMMARY:Monthly Meeting
DESCRIPTION:Join us for our monthly meeting at the Dapto Ribbonwood Centre.
URL:https://ipmamodels.net/event/monthly-meeting-59/
LOCATION:NSW
CATEGORIES:Meetings
END:VEVENT
BEGIN:VEVENT
DTSTART;TZID=Australia/Sydney:20261205T123000
DTEND;TZID=Australia/Sydney:20261205T153000
DTSTAMP:20260418T065843
CREATED:20241225T210258Z
LAST-MODIFIED:20241225T210258Z
UID:2420-1796473800-1796484600@ipmamodels.net
SUMMARY:Monthly Meeting
DESCRIPTION:Join us for our monthly meeting at the Dapto Ribbonwood Centre.
URL:https://ipmamodels.net/event/monthly-meeting-60/
LOCATION:NSW
CATEGORIES:Meetings
END:VEVENT
BEGIN:VEVENT
DTSTART;TZID=Australia/Sydney:20270102T123000
DTEND;TZID=Australia/Sydney:20270102T153000
DTSTAMP:20260418T065843
CREATED:20241225T210323Z
LAST-MODIFIED:20241225T210323Z
UID:2422-1798893000-1798903800@ipmamodels.net
SUMMARY:Monthly Meeting
DESCRIPTION:Join us for our monthly meeting at the Dapto Ribbonwood Centre.
URL:https://ipmamodels.net/event/monthly-meeting-61/
LOCATION:NSW
CATEGORIES:Meetings
END:VEVENT
BEGIN:VEVENT
DTSTART;TZID=Australia/Sydney:20270206T123000
DTEND;TZID=Australia/Sydney:20270206T153000
DTSTAMP:20260418T065843
CREATED:20241225T210324Z
LAST-MODIFIED:20241225T210324Z
UID:2423-1801917000-1801927800@ipmamodels.net
SUMMARY:Monthly Meeting
DESCRIPTION:Join us for our monthly meeting at the Dapto Ribbonwood Centre.
URL:https://ipmamodels.net/event/monthly-meeting-62/
LOCATION:NSW
CATEGORIES:Meetings
END:VEVENT
BEGIN:VEVENT
DTSTART;TZID=Australia/Sydney:20270306T123000
DTEND;TZID=Australia/Sydney:20270306T153000
DTSTAMP:20260418T065843
CREATED:20241225T210324Z
LAST-MODIFIED:20241225T210324Z
UID:2424-1804336200-1804347000@ipmamodels.net
SUMMARY:Monthly Meeting
DESCRIPTION:Join us for our monthly meeting at the Dapto Ribbonwood Centre.
URL:https://ipmamodels.net/event/monthly-meeting-63/
LOCATION:NSW
CATEGORIES:Meetings
END:VEVENT
BEGIN:VEVENT
DTSTART;TZID=Australia/Sydney:20270403T123000
DTEND;TZID=Australia/Sydney:20270403T153000
DTSTAMP:20260418T065843
CREATED:20241225T210324Z
LAST-MODIFIED:20241225T210324Z
UID:2425-1806755400-1806766200@ipmamodels.net
SUMMARY:Monthly Meeting
DESCRIPTION:Join us for our monthly meeting at the Dapto Ribbonwood Centre.
URL:https://ipmamodels.net/event/monthly-meeting-64/
LOCATION:NSW
CATEGORIES:Meetings
END:VEVENT
BEGIN:VEVENT
DTSTART;TZID=Australia/Sydney:20270501T123000
DTEND;TZID=Australia/Sydney:20270501T153000
DTSTAMP:20260418T065843
CREATED:20241225T210324Z
LAST-MODIFIED:20241225T210324Z
UID:2426-1809174600-1809185400@ipmamodels.net
SUMMARY:Monthly Meeting
DESCRIPTION:Join us for our monthly meeting at the Dapto Ribbonwood Centre.
URL:https://ipmamodels.net/event/monthly-meeting-65/
LOCATION:NSW
CATEGORIES:Meetings
END:VEVENT
BEGIN:VEVENT
DTSTART;TZID=Australia/Sydney:20270605T123000
DTEND;TZID=Australia/Sydney:20270605T153000
DTSTAMP:20260418T065843
CREATED:20241225T210328Z
LAST-MODIFIED:20241225T210328Z
UID:2427-1812198600-1812209400@ipmamodels.net
SUMMARY:Monthly Meeting
DESCRIPTION:Join us for our monthly meeting at the Dapto Ribbonwood Centre.
URL:https://ipmamodels.net/event/monthly-meeting-66/
LOCATION:NSW
CATEGORIES:Meetings
END:VEVENT
BEGIN:VEVENT
DTSTART;TZID=Australia/Sydney:20270703T123000
DTEND;TZID=Australia/Sydney:20270703T153000
DTSTAMP:20260418T065843
CREATED:20241225T210328Z
LAST-MODIFIED:20241225T210328Z
UID:2428-1814617800-1814628600@ipmamodels.net
SUMMARY:Monthly Meeting
DESCRIPTION:Join us for our monthly meeting at the Dapto Ribbonwood Centre.
URL:https://ipmamodels.net/event/monthly-meeting-67/
LOCATION:NSW
CATEGORIES:Meetings
END:VEVENT
BEGIN:VEVENT
DTSTART;TZID=Australia/Sydney:20270807T123000
DTEND;TZID=Australia/Sydney:20270807T153000
DTSTAMP:20260418T065843
CREATED:20241225T210328Z
LAST-MODIFIED:20241225T210328Z
UID:2429-1817641800-1817652600@ipmamodels.net
SUMMARY:Monthly Meeting
DESCRIPTION:Join us for our monthly meeting at the Dapto Ribbonwood Centre.
URL:https://ipmamodels.net/event/monthly-meeting-68/
LOCATION:NSW
CATEGORIES:Meetings
END:VEVENT
BEGIN:VEVENT
DTSTART;TZID=Australia/Sydney:20270904T123000
DTEND;TZID=Australia/Sydney:20270904T153000
DTSTAMP:20260418T065843
CREATED:20241225T210329Z
LAST-MODIFIED:20241225T210329Z
UID:2430-1820061000-1820071800@ipmamodels.net
SUMMARY:Monthly Meeting
DESCRIPTION:Join us for our monthly meeting at the Dapto Ribbonwood Centre.
URL:https://ipmamodels.net/event/monthly-meeting-69/
LOCATION:NSW
CATEGORIES:Meetings
END:VEVENT
BEGIN:VEVENT
DTSTART;TZID=Australia/Sydney:20271002T123000
DTEND;TZID=Australia/Sydney:20271002T153000
DTSTAMP:20260418T065843
CREATED:20241225T210329Z
LAST-MODIFIED:20241225T210329Z
UID:2431-1822480200-1822491000@ipmamodels.net
SUMMARY:Monthly Meeting
DESCRIPTION:Join us for our monthly meeting at the Dapto Ribbonwood Centre.
URL:https://ipmamodels.net/event/monthly-meeting-70/
LOCATION:NSW
CATEGORIES:Meetings
END:VEVENT
BEGIN:VEVENT
DTSTART;TZID=Australia/Sydney:20271106T123000
DTEND;TZID=Australia/Sydney:20271106T153000
DTSTAMP:20260418T065843
CREATED:20241225T210331Z
LAST-MODIFIED:20241225T210331Z
UID:2432-1825504200-1825515000@ipmamodels.net
SUMMARY:Monthly Meeting
DESCRIPTION:Join us for our monthly meeting at the Dapto Ribbonwood Centre.
URL:https://ipmamodels.net/event/monthly-meeting-71/
LOCATION:NSW
CATEGORIES:Meetings
END:VEVENT
BEGIN:VEVENT
DTSTART;TZID=Australia/Sydney:20271204T123000
DTEND;TZID=Australia/Sydney:20271204T153000
DTSTAMP:20260418T065843
CREATED:20241225T210331Z
LAST-MODIFIED:20241225T210331Z
UID:2433-1827923400-1827934200@ipmamodels.net
SUMMARY:Monthly Meeting
DESCRIPTION:Join us for our monthly meeting at the Dapto Ribbonwood Centre.
URL:https://ipmamodels.net/event/monthly-meeting-72/
LOCATION:NSW
CATEGORIES:Meetings
END:VEVENT
END:VCALENDAR